BEGIN:VCALENDAR
VERSION:2.0
PRODID:-//RUBBERBAND - ECPv6.3.1//NONSGML v1.0//EN
CALSCALE:GREGORIAN
METHOD:PUBLISH
X-ORIGINAL-URL:https://rbdg.ca
X-WR-CALDESC:Événements pour RUBBERBAND
REFRESH-INTERVAL;VALUE=DURATION:PT1H
X-Robots-Tag:noindex
X-PUBLISHED-TTL:PT1H
BEGIN:VTIMEZONE
TZID:America/Toronto
BEGIN:DAYLIGHT
TZOFFSETFROM:-0500
TZOFFSETTO:-0400
TZNAME:EDT
DTSTART:20260308T070000
END:DAYLIGHT
BEGIN:STANDARD
TZOFFSETFROM:-0400
TZOFFSETTO:-0500
TZNAME:EST
DTSTART:20261101T060000
END:STANDARD
END:VTIMEZONE
BEGIN:VEVENT
DTSTART;VALUE=DATE:20260130
DTEND;VALUE=DATE:20260201
DTSTAMP:20260421T165538
CREATED:20251022T133639Z
LAST-MODIFIED:20260119T180423Z
UID:7451-1769731200-1769903999@rbdg.ca
SUMMARY:Vraiment doucement (redux) — Tampa (FL)
DESCRIPTION:Vraiment doucement (redux) — Hillsborough Community College (Tampa\, FL)\n30 – 31 janvier 2026 \nCliquez ici pour les détails et pour accéder à la billetterie
URL:https://rbdg.ca/event/vraiment-doucement-redux-tampa-fl/
END:VEVENT
END:VCALENDAR