BEGIN:VCALENDAR
VERSION:2.0
PRODID:-//RUBBERBAND - ECPv6.3.1//NONSGML v1.0//EN
CALSCALE:GREGORIAN
METHOD:PUBLISH
X-WR-CALNAME:RUBBERBAND
X-ORIGINAL-URL:https://rbdg.ca
X-WR-CALDESC:Événements pour RUBBERBAND
REFRESH-INTERVAL;VALUE=DURATION:PT1H
X-Robots-Tag:noindex
X-PUBLISHED-TTL:PT1H
BEGIN:VTIMEZONE
TZID:America/Toronto
BEGIN:DAYLIGHT
TZOFFSETFROM:-0500
TZOFFSETTO:-0400
TZNAME:EDT
DTSTART:20180311T070000
END:DAYLIGHT
BEGIN:STANDARD
TZOFFSETFROM:-0400
TZOFFSETTO:-0500
TZNAME:EST
DTSTART:20181104T060000
END:STANDARD
END:VTIMEZONE
BEGIN:VEVENT
DTSTART;VALUE=DATE:20181205
DTEND;VALUE=DATE:20181206
DTSTAMP:20260420T120838
CREATED:20181122T233053Z
LAST-MODIFIED:20181122T233118Z
UID:1287-1543968000-1544054399@rbdg.ca
SUMMARY:Vraiment doucement
DESCRIPTION:Montréal\, Canada\nThéâtre Maisonneuve
URL:https://rbdg.ca/event/vraiment-doucement/
END:VEVENT
BEGIN:VEVENT
DTSTART;VALUE=DATE:20181206
DTEND;VALUE=DATE:20181207
DTSTAMP:20260420T120838
CREATED:20181122T233359Z
LAST-MODIFIED:20181122T233359Z
UID:1292-1544054400-1544140799@rbdg.ca
SUMMARY:Vraiment doucement
DESCRIPTION:Montréal\, Canada\nThéâtre Maisonneuve
URL:https://rbdg.ca/event/vraiment-doucement-3/
END:VEVENT
BEGIN:VEVENT
DTSTART;VALUE=DATE:20181207
DTEND;VALUE=DATE:20181208
DTSTAMP:20260420T120838
CREATED:20181122T233506Z
LAST-MODIFIED:20181122T233506Z
UID:1296-1544140800-1544227199@rbdg.ca
SUMMARY:Vraiment doucement
DESCRIPTION:Montréal\, Canada\nThéâtre Maisonneuve
URL:https://rbdg.ca/event/vraiment-doucement-5/
END:VEVENT
BEGIN:VEVENT
DTSTART;VALUE=DATE:20181208
DTEND;VALUE=DATE:20181209
DTSTAMP:20260420T120838
CREATED:20181122T233639Z
LAST-MODIFIED:20181122T233639Z
UID:1301-1544227200-1544313599@rbdg.ca
SUMMARY:Vraiment doucement
DESCRIPTION:Montréal\, Canada\nThéâtre Maisonneuve
URL:https://rbdg.ca/event/vraiment-doucement-7/
END:VEVENT
END:VCALENDAR