BEGIN:VCALENDAR
VERSION:2.0
PRODID:-//RUBBERBAND - ECPv6.3.1//NONSGML v1.0//EN
CALSCALE:GREGORIAN
METHOD:PUBLISH
X-WR-CALNAME:RUBBERBAND
X-ORIGINAL-URL:https://rbdg.ca
X-WR-CALDESC:Événements pour RUBBERBAND
REFRESH-INTERVAL;VALUE=DURATION:PT1H
X-Robots-Tag:noindex
X-PUBLISHED-TTL:PT1H
BEGIN:VTIMEZONE
TZID:America/Toronto
BEGIN:DAYLIGHT
TZOFFSETFROM:-0500
TZOFFSETTO:-0400
TZNAME:EDT
DTSTART:20190310T070000
END:DAYLIGHT
BEGIN:STANDARD
TZOFFSETFROM:-0400
TZOFFSETTO:-0500
TZNAME:EST
DTSTART:20191103T060000
END:STANDARD
END:VTIMEZONE
BEGIN:VEVENT
DTSTART;VALUE=DATE:20190315
DTEND;VALUE=DATE:20190316
DTSTAMP:20260422T055035
CREATED:20181122T234028Z
LAST-MODIFIED:20181122T234028Z
UID:1305-1552608000-1552694399@rbdg.ca
SUMMARY:Vic's Mix
DESCRIPTION:Beloeil\, Canada\nCentre culturel
URL:https://rbdg.ca/event/vics-mix-3/
END:VEVENT
BEGIN:VEVENT
DTSTART;VALUE=DATE:20190319
DTEND;VALUE=DATE:20190320
DTSTAMP:20260422T055035
CREATED:20181122T234431Z
LAST-MODIFIED:20181122T234431Z
UID:1310-1552953600-1553039999@rbdg.ca
SUMMARY:Vraiment doucement
DESCRIPTION:Sherbrooke\, Canada\nCentre culturel
URL:https://rbdg.ca/event/vraiment-doucement-9/
END:VEVENT
BEGIN:VEVENT
DTSTART;VALUE=DATE:20190321
DTEND;VALUE=DATE:20190322
DTSTAMP:20260422T055035
CREATED:20181122T234726Z
LAST-MODIFIED:20181122T235230Z
UID:1314-1553126400-1553212799@rbdg.ca
SUMMARY:Vic's Mix
DESCRIPTION:Montréal\, Canada\nMaison de la culture Rosemont Petite-Patrie
URL:https://rbdg.ca/event/vics-mix-5/
END:VEVENT
BEGIN:VEVENT
DTSTART;VALUE=DATE:20190322
DTEND;VALUE=DATE:20190323
DTSTAMP:20260422T055035
CREATED:20181122T234958Z
LAST-MODIFIED:20181122T234958Z
UID:1319-1553212800-1553299199@rbdg.ca
SUMMARY:Vic's Mix
DESCRIPTION:Verdun\, Canada\nQuai 5160
URL:https://rbdg.ca/event/vics-mix-7/
END:VEVENT
BEGIN:VEVENT
DTSTART;VALUE=DATE:20190323
DTEND;VALUE=DATE:20190324
DTSTAMP:20260422T055035
CREATED:20181122T235134Z
LAST-MODIFIED:20181122T235134Z
UID:1323-1553299200-1553385599@rbdg.ca
SUMMARY:Vic's Mix
DESCRIPTION:Montréal\, Canada\nMaison de la culture Côte-des-Neiges
URL:https://rbdg.ca/event/vics-mix-9/
END:VEVENT
BEGIN:VEVENT
DTSTART;VALUE=DATE:20190326
DTEND;VALUE=DATE:20190327
DTSTAMP:20260422T055035
CREATED:20181122T235425Z
LAST-MODIFIED:20181122T235425Z
UID:1329-1553558400-1553644799@rbdg.ca
SUMMARY:Vic's Mix
DESCRIPTION:Montréal\, Canada\nMaison de la culture du Plateau Mont-Royal
URL:https://rbdg.ca/event/vics-mix-11/
END:VEVENT
BEGIN:VEVENT
DTSTART;VALUE=DATE:20190327
DTEND;VALUE=DATE:20190328
DTSTAMP:20260422T055035
CREATED:20181122T235530Z
LAST-MODIFIED:20181122T235530Z
UID:1333-1553644800-1553644800@rbdg.ca
SUMMARY:Vic's Mix
DESCRIPTION:Montréal\, Canada\nMaison de la culture du Plateau Mont-Royal
URL:https://rbdg.ca/event/vics-mix-13/
END:VEVENT
BEGIN:VEVENT
DTSTART;VALUE=DATE:20190328
DTEND;VALUE=DATE:20190329
DTSTAMP:20260422T055035
CREATED:20181122T235651Z
LAST-MODIFIED:20181122T235813Z
UID:1337-1553731200-1553817599@rbdg.ca
SUMMARY:Vic's Mix
DESCRIPTION:Montréal-Nord\, Canada\nMaison culturelle et communautaire
URL:https://rbdg.ca/event/vics-mix-15/
END:VEVENT
BEGIN:VEVENT
DTSTART;VALUE=DATE:20190329
DTEND;VALUE=DATE:20190330
DTSTAMP:20260422T055035
CREATED:20181123T000013Z
LAST-MODIFIED:20181123T000013Z
UID:1344-1553817600-1553903999@rbdg.ca
SUMMARY:Vic's Mix
DESCRIPTION:Sainte-Geneviève\, Canada\nLa salle Pauline-Julien
URL:https://rbdg.ca/event/vics-mix-17/
END:VEVENT
BEGIN:VEVENT
DTSTART;VALUE=DATE:20190330
DTEND;VALUE=DATE:20190331
DTSTAMP:20260422T055035
CREATED:20181123T000039Z
LAST-MODIFIED:20181123T000202Z
UID:1346-1553904000-1553990399@rbdg.ca
SUMMARY:Vic's Mix
DESCRIPTION:Montréal\, Canada\nMaison de la culture Mercier
URL:https://rbdg.ca/event/vics-mix-18/
END:VEVENT
BEGIN:VEVENT
DTSTART;VALUE=DATE:20190331
DTEND;VALUE=DATE:20190401
DTSTAMP:20260422T055035
CREATED:20181123T000313Z
LAST-MODIFIED:20181123T000313Z
UID:1354-1553990400-1554076799@rbdg.ca
SUMMARY:Vic's Mix
DESCRIPTION:Verdun\, Canada\nQuai 5160
URL:https://rbdg.ca/event/vics-mix-21/
END:VEVENT
END:VCALENDAR