BEGIN:VCALENDAR
VERSION:2.0
PRODID:-//RUBBERBAND - ECPv6.3.1//NONSGML v1.0//EN
CALSCALE:GREGORIAN
METHOD:PUBLISH
X-ORIGINAL-URL:https://rbdg.ca
X-WR-CALDESC:Events for RUBBERBAND
REFRESH-INTERVAL;VALUE=DURATION:PT1H
X-Robots-Tag:noindex
X-PUBLISHED-TTL:PT1H
BEGIN:VTIMEZONE
TZID:America/Toronto
BEGIN:DAYLIGHT
TZOFFSETFROM:-0500
TZOFFSETTO:-0400
TZNAME:EDT
DTSTART:20240310T070000
END:DAYLIGHT
BEGIN:STANDARD
TZOFFSETFROM:-0400
TZOFFSETTO:-0500
TZNAME:EST
DTSTART:20241103T060000
END:STANDARD
END:VTIMEZONE
BEGIN:VEVENT
DTSTART;VALUE=DATE:20241029
DTEND;VALUE=DATE:20241030
DTSTAMP:20260421T203635
CREATED:20240625T135231Z
LAST-MODIFIED:20240625T135357Z
UID:6806-1730160000-1730246399@rbdg.ca
SUMMARY:Ever So Slightly (redux) — Lewisburg (PA)
DESCRIPTION:Ever So Slightly (redux) — Bucknell University\, Lewisburg (PA)\nOctober 29\, 2024 · 7:30p.m. \nClick here for all the details and to buy tickets
URL:https://rbdg.ca/en/event/ever-so-slightly-redux-lewisburg-pa/
END:VEVENT
END:VCALENDAR