BEGIN:VCALENDAR
VERSION:2.0
PRODID:-//RUBBERBAND - ECPv6.3.1//NONSGML v1.0//EN
CALSCALE:GREGORIAN
METHOD:PUBLISH
X-WR-CALNAME:RUBBERBAND
X-ORIGINAL-URL:https://rbdg.ca
X-WR-CALDESC:Events for RUBBERBAND
REFRESH-INTERVAL;VALUE=DURATION:PT1H
X-Robots-Tag:noindex
X-PUBLISHED-TTL:PT1H
BEGIN:VTIMEZONE
TZID:America/Toronto
BEGIN:DAYLIGHT
TZOFFSETFROM:-0500
TZOFFSETTO:-0400
TZNAME:EDT
DTSTART:20250309T070000
END:DAYLIGHT
BEGIN:STANDARD
TZOFFSETFROM:-0400
TZOFFSETTO:-0500
TZNAME:EST
DTSTART:20251102T060000
END:STANDARD
END:VTIMEZONE
BEGIN:VEVENT
DTSTART;VALUE=DATE:20250308
DTEND;VALUE=DATE:20250310
DTSTAMP:20260421T095026
CREATED:20250108T103625Z
LAST-MODIFIED:20250108T103749Z
UID:6981-1741392000-1741564799@rbdg.ca
SUMMARY:Second Chances — Santa Monica (CA)
DESCRIPTION:Second Chances — The Eli and Edythe Broad Stage\, Santa Monica (CA)\nMarch 8th\, 2025 · 7:30p.m.\nMarch 9th\, 2025 · 2:00p.m. \nClick here for all the details and to buy tickets \n 
URL:https://rbdg.ca/en/event/second-chances-santa-monica-ca/
END:VEVENT
END:VCALENDAR