BEGIN:VCALENDAR
VERSION:2.0
PRODID:-//RUBBERBAND - ECPv6.3.1//NONSGML v1.0//EN
CALSCALE:GREGORIAN
METHOD:PUBLISH
X-ORIGINAL-URL:https://rbdg.ca
X-WR-CALDESC:Eventos para RUBBERBAND
REFRESH-INTERVAL;VALUE=DURATION:PT1H
X-Robots-Tag:noindex
X-PUBLISHED-TTL:PT1H
BEGIN:VTIMEZONE
TZID:America/Toronto
BEGIN:DAYLIGHT
TZOFFSETFROM:-0500
TZOFFSETTO:-0400
TZNAME:EDT
DTSTART:20250309T070000
END:DAYLIGHT
BEGIN:STANDARD
TZOFFSETFROM:-0400
TZOFFSETTO:-0500
TZNAME:EST
DTSTART:20251102T060000
END:STANDARD
END:VTIMEZONE
BEGIN:VEVENT
DTSTART;VALUE=DATE:20250301
DTEND;VALUE=DATE:20250302
DTSTAMP:20260421T081859
CREATED:20250108T102527Z
LAST-MODIFIED:20250108T102731Z
UID:6971-1740787200-1740873599@rbdg.ca
SUMMARY:Ever So Slightly — Purchase (NY)
DESCRIPTION:Ever So Slightly — Purchase College\, Purchase (NY)\n1 de marzo de 2025 · 20h00 \nPulse aquí para conocer todos los detalles y acceder a la taquilla
URL:https://rbdg.ca/es/event/ever-so-slightly-purchase-ny/
END:VEVENT
BEGIN:VEVENT
DTSTART;VALUE=DATE:20250306
DTEND;VALUE=DATE:20250307
DTSTAMP:20260421T081859
CREATED:20250108T102950Z
LAST-MODIFIED:20250108T103145Z
UID:6977-1741219200-1741305599@rbdg.ca
SUMMARY:Vic's Mix — Santa Rosa (CA)
DESCRIPTION:Vic’s Mix — Luther Burbank Center for the Arts\, Santa Rosa (CA)\n6 de marzo de 2025 · 19h30 \nPulse aquí para conocer todos los detalles y acceder a la taquilla
URL:https://rbdg.ca/es/event/vics-mix-santa-rosa-ca/
END:VEVENT
BEGIN:VEVENT
DTSTART;VALUE=DATE:20250308
DTEND;VALUE=DATE:20250310
DTSTAMP:20260421T081859
CREATED:20250108T103625Z
LAST-MODIFIED:20250108T103915Z
UID:6983-1741392000-1741564799@rbdg.ca
SUMMARY:Second Chances — Santa Monica (CA)
DESCRIPTION:Second Chances — The Eli and Edythe Broad Stage\, Santa Monica (CA)\n \n8 de marzo de 2025 · 19h30\n9 de marzo de 2025 · 14h00 \nPulse aquí para conocer todos los detalles y acceder a la taquilla
URL:https://rbdg.ca/es/event/second-chances-santa-monica-ca/
END:VEVENT
BEGIN:VEVENT
DTSTART;VALUE=DATE:20250323
DTEND;VALUE=DATE:20250324
DTSTAMP:20260421T081859
CREATED:20250122T133719Z
LAST-MODIFIED:20250122T134710Z
UID:7003-1742688000-1742774399@rbdg.ca
SUMMARY:Vic’s Mix — San Francisco (CA)
DESCRIPTION:Vic’s Mix — Presidio Theatre\, San Francisco (CA)\n23 de marzo de 2025 · 14h00 \nPulse aquí para conocer todos los detalles y acceder a la taquilla
URL:https://rbdg.ca/es/event/vics-mix-san-francisco-ca/
END:VEVENT
BEGIN:VEVENT
DTSTART;VALUE=DATE:20250327
DTEND;VALUE=DATE:20250328
DTSTAMP:20260421T081859
CREATED:20250108T104312Z
LAST-MODIFIED:20250108T104517Z
UID:6989-1743033600-1743119999@rbdg.ca
SUMMARY:Vic's Mix — Salt Lake City (UT)
DESCRIPTION:Vic’s Mix — University of Utah\, Salt Lake City (UT)\n27 de marzo de 2024 · 19h30 \nPulse aquí para conocer todos los detalles y acceder a la taquilla
URL:https://rbdg.ca/es/event/vics-mix-salt-lake-city-ut/
END:VEVENT
END:VCALENDAR