BEGIN:VCALENDAR
VERSION:2.0
PRODID:-//RUBBERBAND - ECPv6.3.1//NONSGML v1.0//EN
CALSCALE:GREGORIAN
METHOD:PUBLISH
X-WR-CALNAME:RUBBERBAND
X-ORIGINAL-URL:https://rbdg.ca
X-WR-CALDESC:Eventos para RUBBERBAND
REFRESH-INTERVAL;VALUE=DURATION:PT1H
X-Robots-Tag:noindex
X-PUBLISHED-TTL:PT1H
BEGIN:VTIMEZONE
TZID:America/Toronto
BEGIN:DAYLIGHT
TZOFFSETFROM:-0500
TZOFFSETTO:-0400
TZNAME:EDT
DTSTART:20250309T070000
END:DAYLIGHT
BEGIN:STANDARD
TZOFFSETFROM:-0400
TZOFFSETTO:-0500
TZNAME:EST
DTSTART:20251102T060000
END:STANDARD
END:VTIMEZONE
BEGIN:VEVENT
DTSTART;VALUE=DATE:20251008
DTEND;VALUE=DATE:20251009
DTSTAMP:20260421T103348
CREATED:20251008T164837Z
LAST-MODIFIED:20251008T165135Z
UID:7410-1759881600-1759967999@rbdg.ca
SUMMARY:Second Chances — Drummondville (QC)
DESCRIPTION:Second Chances — Maison des arts Desjardins Drummondville (QC)\n8 de octubre de 2025 · 19h30\nPulse aquí para conocer todos los detalles y acceder a la taquilla \n 
URL:https://rbdg.ca/es/event/second-chances-drummondville-qc/
END:VEVENT
END:VCALENDAR